BEGIN:VCALENDAR
VERSION:2.0
PRODID:-//Date iCal//NONSGML kigkonsult.se iCalcreator 2.16.12//
METHOD:PUBLISH
BEGIN:VTIMEZONE
TZID:America/Chicago
BEGIN:STANDARD
DTSTART:20211107T020000
TZOFFSETFROM:-0500
TZOFFSETTO:-0600
TZNAME:CST
END:STANDARD
BEGIN:DAYLIGHT
DTSTART:20220313T020000
TZOFFSETFROM:-0600
TZOFFSETTO:-0500
TZNAME:CDT
END:DAYLIGHT
END:VTIMEZONE
BEGIN:VEVENT
UID:calendar.6085.field_event_date2.0@www.legis.nd.gov
CREATED:20210831T173629Z
DESCRIPTION:https://www.legis.nd.gov/events/2021/09/08/redistricting-commit
 tee
DTSTART;TZID=America/Chicago:20210908T100000
DTEND;TZID=America/Chicago:20210908T160000
LAST-MODIFIED:20210913T180116Z
LOCATION:Iris Room\, Hilton Garden Inn \n4351 17th Avenue South \nFargo \nN
 orth Dakota \nUnited States
SUMMARY:Redistricting Committee
URL;TYPE=URI:https://www.legis.nd.gov/events/2021/09/08/redistricting-commi
 ttee
END:VEVENT
END:VCALENDAR
