BEGIN:VCALENDAR
VERSION:2.0
PRODID:-//Date iCal//NONSGML kigkonsult.se iCalcreator 2.16.12//
METHOD:PUBLISH
BEGIN:VTIMEZONE
TZID:America/Chicago
BEGIN:STANDARD
DTSTART:20211107T020000
TZOFFSETFROM:-0500
TZOFFSETTO:-0600
TZNAME:CST
END:STANDARD
BEGIN:DAYLIGHT
DTSTART:20220313T020000
TZOFFSETFROM:-0600
TZOFFSETTO:-0500
TZNAME:CDT
END:DAYLIGHT
END:VTIMEZONE
BEGIN:VEVENT
UID:calendar.6025.field_event_date2.0@www.legis.nd.gov
CREATED:20210719T194834Z
DESCRIPTION:https://www.legis.nd.gov/events/2021/09/08/workers-compensation
 -review-committee
DTSTART;TZID=America/Chicago:20210908T100000
DTEND;TZID=America/Chicago:20210908T141500
LAST-MODIFIED:20210907T192049Z
LOCATION:Roughrider Room \nState Capitol \nBismarck \nNorth Dakota \nUnited
  States
SUMMARY:Workers' Compensation Review Committee
URL;TYPE=URI:https://www.legis.nd.gov/events/2021/09/08/workers-compensatio
 n-review-committee
END:VEVENT
END:VCALENDAR
